BEGIN:VCALENDAR
VERSION:2.0
PRODID:-//Fisch-Michl - ECPv5.1.4//NONSGML v1.0//EN
CALSCALE:GREGORIAN
METHOD:PUBLISH
X-WR-CALNAME:Fisch-Michl
X-ORIGINAL-URL:https://www.fisch-michl.de
X-WR-CALDESC:Veranstaltungen für Fisch-Michl
BEGIN:VTIMEZONE
TZID:UTC
BEGIN:STANDARD
TZOFFSETFROM:+0000
TZOFFSETTO:+0000
TZNAME:UTC
DTSTART:20230101T000000
END:STANDARD
END:VTIMEZONE
BEGIN:VEVENT
DTSTART;VALUE=DATE:20230812
DTEND;VALUE=DATE:20230821
DTSTAMP:20260422T140455
CREATED:20230123T142715Z
LAST-MODIFIED:20230123T142715Z
UID:1016-1691798400-1692575999@www.fisch-michl.de
SUMMARY:Frohnbergfest in Hahnbach
DESCRIPTION:Auf geht`s zum Frohnbergfest in Hahnbach! Wir laden euch herzlich zum Schlemmen unserer Steckerlfische vom Holzkohlegrill ein. \nSteckerlfisch Vorbestellung unter 0171 9573146 \n
URL:https://www.fisch-michl.de/event/frohnbergfest-in-hahnbach-2/
LOCATION:Frohnberg Hahnbach\, Frohnberg\, Hahnbach\, Bayern\, 92256
ATTACH;FMTTYPE=image/jpeg:https://www.fisch-michl.de/wp-content/uploads/2020/07/09949_Fisch-Michl_2018-800.jpg
END:VEVENT
END:VCALENDAR