BEGIN:VCALENDAR
VERSION:2.0
PRODID:-//Fisch-Michl - ECPv5.1.4//NONSGML v1.0//EN
CALSCALE:GREGORIAN
METHOD:PUBLISH
X-WR-CALNAME:Fisch-Michl
X-ORIGINAL-URL:https://www.fisch-michl.de
X-WR-CALDESC:Veranstaltungen für Fisch-Michl
BEGIN:VTIMEZONE
TZID:UTC
BEGIN:STANDARD
TZOFFSETFROM:+0000
TZOFFSETTO:+0000
TZNAME:UTC
DTSTART:20230101T000000
END:STANDARD
END:VTIMEZONE
BEGIN:VEVENT
DTSTART;TZID=UTC:20231028T103000
DTEND;TZID=UTC:20231028T103000
DTSTAMP:20260422T220119
CREATED:20230123T143242Z
LAST-MODIFIED:20230123T143242Z
UID:1024-1698489000-1698489000@www.fisch-michl.de
SUMMARY:Globus Parkplatz Schwandorf
DESCRIPTION:Wir laden euch herzlich zum Schlemmen unserer Steckerlfische vom Holzkohlegrill beim Globus Parkplatz in Schwandorf ein. \nSteckerlfisch Vorbestellung unter 0171 9573146 \n
URL:https://www.fisch-michl.de/event/globus-parkplatz-schwandorf-15/
LOCATION:Globus Schwandorf\, Am Brunnfeld 8\, Schwandorf\, Bayern\, 92421
ATTACH;FMTTYPE=image/jpeg:https://www.fisch-michl.de/wp-content/uploads/2020/07/IMG-20200703-WA0041-1.jpg
END:VEVENT
END:VCALENDAR