BEGIN:VCALENDAR
VERSION:2.0
PRODID:-//Fisch-Michl - ECPv5.1.4//NONSGML v1.0//EN
CALSCALE:GREGORIAN
METHOD:PUBLISH
X-WR-CALNAME:Fisch-Michl
X-ORIGINAL-URL:https://www.fisch-michl.de
X-WR-CALDESC:Veranstaltungen für Fisch-Michl
BEGIN:VTIMEZONE
TZID:UTC
BEGIN:STANDARD
TZOFFSETFROM:+0000
TZOFFSETTO:+0000
TZNAME:UTC
DTSTART:20230101T000000
END:STANDARD
END:VTIMEZONE
BEGIN:VEVENT
DTSTART;TZID=UTC:20230825T163000
DTEND;TZID=UTC:20230825T163000
DTSTAMP:20260422T155023
CREATED:20230123T142749Z
LAST-MODIFIED:20230123T142749Z
UID:1018-1692981000-1692981000@www.fisch-michl.de
SUMMARY:Grillen in der Segelschule am Steinberger See
DESCRIPTION:Wir laden euch herzlich zum Schlemmen unserer Steckerlfische vom Holzkohlegrill an der Segelschule in Steinberg am See ein. \nSteckerlfisch Vorbestellung unter 0171 9573146 \n
URL:https://www.fisch-michl.de/event/grillen-in-der-segelschule-am-steinberger-see-4/
LOCATION:Segelschule am Steinberger See\, In der Oder 2\, Steinberg am See\, Bayern\, 92449\, Deutschland
ATTACH;FMTTYPE=image/jpeg:https://www.fisch-michl.de/wp-content/uploads/2020/07/Steinberg-am-See-Drohnenaufnahmex.jpg
END:VEVENT
END:VCALENDAR