BEGIN:VCALENDAR
VERSION:2.0
PRODID:-//Fisch-Michl - ECPv5.1.4//NONSGML v1.0//EN
CALSCALE:GREGORIAN
METHOD:PUBLISH
X-WR-CALNAME:Fisch-Michl
X-ORIGINAL-URL:https://www.fisch-michl.de
X-WR-CALDESC:Veranstaltungen für Fisch-Michl
BEGIN:VTIMEZONE
TZID:UTC
BEGIN:STANDARD
TZOFFSETFROM:+0000
TZOFFSETTO:+0000
TZNAME:UTC
DTSTART:20210101T000000
END:STANDARD
END:VTIMEZONE
BEGIN:VEVENT
DTSTART;TZID=UTC:20210206T103000
DTEND;TZID=UTC:20210206T103000
DTSTAMP:20260424T212925
CREATED:20210125T135343Z
LAST-MODIFIED:20210125T135343Z
UID:833-1612607400-1612607400@www.fisch-michl.de
SUMMARY:Grillen Zuhause in Klardorf
DESCRIPTION:Wir grillen unsere leckeren Steckerlfische für Euch bei uns Zuhause. \nAbholung ab 10:30 Uhr in der Ranawerkstraße 2 in Klardorf. \nBitte unbedingt unter 0171 9573146 vorbestellen!\n \n
URL:https://www.fisch-michl.de/event/grillen-zuhause-in-klardorf-4/
LOCATION:Schwandorf\, Ranawerkstraße 2\, Schwandorf\, Bayern\, 92421\, Deutschland
ATTACH;FMTTYPE=image/jpeg:https://www.fisch-michl.de/wp-content/uploads/2020/07/IMG_2419.jpg
END:VEVENT
END:VCALENDAR